BEGIN:VCALENDAR
VERSION:2.0
PRODID:-//What&#039;s On Lewis - ECPv6.15.20//NONSGML v1.0//EN
CALSCALE:GREGORIAN
METHOD:PUBLISH
X-WR-CALNAME:What&#039;s On Lewis
X-ORIGINAL-URL:https://whatsonlewis.co.uk
X-WR-CALDESC:Events for What&#039;s On Lewis
REFRESH-INTERVAL;VALUE=DURATION:PT1H
X-Robots-Tag:noindex
X-PUBLISHED-TTL:PT1H
BEGIN:VTIMEZONE
TZID:Europe/London
BEGIN:DAYLIGHT
TZOFFSETFROM:+0000
TZOFFSETTO:+0100
TZNAME:BST
DTSTART:20250330T010000
END:DAYLIGHT
BEGIN:STANDARD
TZOFFSETFROM:+0100
TZOFFSETTO:+0000
TZNAME:GMT
DTSTART:20251026T010000
END:STANDARD
BEGIN:DAYLIGHT
TZOFFSETFROM:+0000
TZOFFSETTO:+0100
TZNAME:BST
DTSTART:20260329T010000
END:DAYLIGHT
BEGIN:STANDARD
TZOFFSETFROM:+0100
TZOFFSETTO:+0000
TZNAME:GMT
DTSTART:20261025T010000
END:STANDARD
BEGIN:DAYLIGHT
TZOFFSETFROM:+0000
TZOFFSETTO:+0100
TZNAME:BST
DTSTART:20270328T010000
END:DAYLIGHT
BEGIN:STANDARD
TZOFFSETFROM:+0100
TZOFFSETTO:+0000
TZNAME:GMT
DTSTART:20271031T010000
END:STANDARD
END:VTIMEZONE
BEGIN:VEVENT
DTSTART;TZID=Europe/London:20260401T100000
DTEND;TZID=Europe/London:20260429T160000
DTSTAMP:20260420T130644
CREATED:20260319T202434Z
LAST-MODIFIED:20260319T202434Z
UID:4022-1775037600-1777478400@whatsonlewis.co.uk
SUMMARY:DK MacLeod Art Exhibition\, Dusgadh Baile na Cille
DESCRIPTION:
URL:https://whatsonlewis.co.uk/event/dk-macleod-art-exhibition-dusgadh-baile-na-cille/
LOCATION:Baile na Cille\, HS2 9JE
CATEGORIES:Art,social,Wellbeing
ATTACH;FMTTYPE=image/jpeg:https://whatsonlewis.co.uk/wp-content/uploads/2026/03/1-29th-April-DK-MacLeod.jpg
END:VEVENT
BEGIN:VEVENT
DTSTART;TZID=Europe/London:20260429T140000
DTEND;TZID=Europe/London:20260429T160000
DTSTAMP:20260420T130644
CREATED:20260416T094344Z
LAST-MODIFIED:20260416T094344Z
UID:4142-1777471200-1777478400@whatsonlewis.co.uk
SUMMARY:Cruth Creadha\, Rupachitta Robertson\, An Taigh Ceilidh
DESCRIPTION:
URL:https://whatsonlewis.co.uk/event/cruth-creadha-rupachitta-robertson-an-taigh-ceilidh/
LOCATION:An Taigh Ceilidh\, Church St\, Stornoway\, 16 Church St\, Stornoway\, HS1 2DH
CATEGORIES:An Taigh Ceilidh,Gaelic,Wellbeing
ATTACH;FMTTYPE=image/jpeg:https://whatsonlewis.co.uk/wp-content/uploads/2026/04/Rupa-2.jpg
END:VEVENT
BEGIN:VEVENT
DTSTART;TZID=Europe/London:20260429T193000
DTEND;TZID=Europe/London:20260429T213000
DTSTAMP:20260420T130644
CREATED:20260405T122128Z
LAST-MODIFIED:20260405T122128Z
UID:4094-1777491000-1777498200@whatsonlewis.co.uk
SUMMARY:Ceilidh Dancing\, Golf Club\, Stornoway
DESCRIPTION:
URL:https://whatsonlewis.co.uk/event/ceilidh-dancing-golf-club-stornoway-4/
LOCATION:Stornoway Golf Club\, HS2 0XP
CATEGORIES:Exercise,music,social,Wellbeing
ATTACH;FMTTYPE=image/jpeg:https://whatsonlewis.co.uk/wp-content/uploads/2025/08/Ceilidh-Dancing.jpg
END:VEVENT
END:VCALENDAR