BEGIN:VCALENDAR
VERSION:2.0
PRODID:-//What&#039;s On Lewis - ECPv6.15.20//NONSGML v1.0//EN
CALSCALE:GREGORIAN
METHOD:PUBLISH
X-ORIGINAL-URL:https://whatsonlewis.co.uk
X-WR-CALDESC:Events for What&#039;s On Lewis
REFRESH-INTERVAL;VALUE=DURATION:PT1H
X-Robots-Tag:noindex
X-PUBLISHED-TTL:PT1H
BEGIN:VTIMEZONE
TZID:Europe/London
BEGIN:DAYLIGHT
TZOFFSETFROM:+0000
TZOFFSETTO:+0100
TZNAME:BST
DTSTART:20250330T010000
END:DAYLIGHT
BEGIN:STANDARD
TZOFFSETFROM:+0100
TZOFFSETTO:+0000
TZNAME:GMT
DTSTART:20251026T010000
END:STANDARD
BEGIN:DAYLIGHT
TZOFFSETFROM:+0000
TZOFFSETTO:+0100
TZNAME:BST
DTSTART:20260329T010000
END:DAYLIGHT
BEGIN:STANDARD
TZOFFSETFROM:+0100
TZOFFSETTO:+0000
TZNAME:GMT
DTSTART:20261025T010000
END:STANDARD
BEGIN:DAYLIGHT
TZOFFSETFROM:+0000
TZOFFSETTO:+0100
TZNAME:BST
DTSTART:20270328T010000
END:DAYLIGHT
BEGIN:STANDARD
TZOFFSETFROM:+0100
TZOFFSETTO:+0000
TZNAME:GMT
DTSTART:20271031T010000
END:STANDARD
END:VTIMEZONE
BEGIN:VEVENT
DTSTART;TZID=Europe/London:20260424T193000
DTEND;TZID=Europe/London:20260424T210000
DTSTAMP:20260420T155424
CREATED:20260419T101046Z
LAST-MODIFIED:20260419T101238Z
UID:4186-1777059000-1777064400@whatsonlewis.co.uk
SUMMARY:Caraichean\, The Hut Back
DESCRIPTION:
URL:https://whatsonlewis.co.uk/event/caraichean-the-hut-back/
LOCATION:Loch a Tuath Community Hut \, Back\, Old School Rd\, Back\, HS2 0LQ
CATEGORIES:Gaelic,social,Wellbeing
ATTACH;FMTTYPE=image/jpeg:https://whatsonlewis.co.uk/wp-content/uploads/2026/04/a6d308d8-1b6e-461a-b4db-8be7f30ec0ec.jpg
END:VEVENT
BEGIN:VEVENT
DTSTART;TZID=Europe/London:20260429T140000
DTEND;TZID=Europe/London:20260429T160000
DTSTAMP:20260420T155424
CREATED:20260416T094344Z
LAST-MODIFIED:20260416T094344Z
UID:4142-1777471200-1777478400@whatsonlewis.co.uk
SUMMARY:Cruth Creadha\, Rupachitta Robertson\, An Taigh Ceilidh
DESCRIPTION:
URL:https://whatsonlewis.co.uk/event/cruth-creadha-rupachitta-robertson-an-taigh-ceilidh/
LOCATION:An Taigh Ceilidh\, Church St\, Stornoway\, 16 Church St\, Stornoway\, HS1 2DH
CATEGORIES:An Taigh Ceilidh,Gaelic,Wellbeing
ATTACH;FMTTYPE=image/jpeg:https://whatsonlewis.co.uk/wp-content/uploads/2026/04/Rupa-2.jpg
END:VEVENT
BEGIN:VEVENT
DTSTART;TZID=Europe/London:20260429T193000
DTEND;TZID=Europe/London:20260429T213000
DTSTAMP:20260420T155424
CREATED:20260405T122128Z
LAST-MODIFIED:20260405T122128Z
UID:4094-1777491000-1777498200@whatsonlewis.co.uk
SUMMARY:Ceilidh Dancing\, Golf Club\, Stornoway
DESCRIPTION:
URL:https://whatsonlewis.co.uk/event/ceilidh-dancing-golf-club-stornoway-4/
LOCATION:Stornoway Golf Club\, HS2 0XP
CATEGORIES:Exercise,music,social,Wellbeing
ATTACH;FMTTYPE=image/jpeg:https://whatsonlewis.co.uk/wp-content/uploads/2025/08/Ceilidh-Dancing.jpg
END:VEVENT
BEGIN:VEVENT
DTSTART;TZID=Europe/London:20260430T123000
DTEND;TZID=Europe/London:20260430T140000
DTSTAMP:20260420T155424
CREATED:20260419T094410Z
LAST-MODIFIED:20260419T094426Z
UID:4176-1777552200-1777557600@whatsonlewis.co.uk
SUMMARY:Buggy Buddies\, Porters Lodge
DESCRIPTION:
URL:https://whatsonlewis.co.uk/event/buggy-buddies-porters-lodge-2/
LOCATION:Porters Lodge\, Castle Grounds\, stornoway\, HS1
CATEGORIES:Exercise,family,social,Wellbeing
ATTACH;FMTTYPE=image/jpeg:https://whatsonlewis.co.uk/wp-content/uploads/2026/04/bb0b5d89-7705-47fa-8f83-3b1cf3fa3be9.jpg
END:VEVENT
BEGIN:VEVENT
DTSTART;TZID=Europe/London:20260430T180000
DTEND;TZID=Europe/London:20260430T193000
DTSTAMP:20260420T155424
CREATED:20260329T131307Z
LAST-MODIFIED:20260329T131307Z
UID:4068-1777572000-1777577400@whatsonlewis.co.uk
SUMMARY:Ceilidh\, Ceol s Cofaidh\, An Taigh Ceilidh
DESCRIPTION:
URL:https://whatsonlewis.co.uk/event/ceilidh-ceol-s-cofaidh-an-taigh-ceilidh-4/
LOCATION:An Taigh Ceilidh\, Church St\, Stornoway\, 16 Church St\, Stornoway\, HS1 2DH
CATEGORIES:An Taigh Ceilidh,Gaelic,music,social,Wellbeing
ATTACH;FMTTYPE=image/jpeg:https://whatsonlewis.co.uk/wp-content/uploads/2026/03/ceilidh.jpg
END:VEVENT
BEGIN:VEVENT
DTSTART;TZID=Europe/London:20260430T183000
DTEND;TZID=Europe/London:20260430T193000
DTSTAMP:20260420T155424
CREATED:20260405T123547Z
LAST-MODIFIED:20260405T123547Z
UID:4107-1777573800-1777577400@whatsonlewis.co.uk
SUMMARY:Chess Club\, Laxdale Hall
DESCRIPTION:
URL:https://whatsonlewis.co.uk/event/chess-club-laxdale-hall-4/
LOCATION:Laxdale Hall\, HS2 0DY
CATEGORIES:social,Wellbeing
ATTACH;FMTTYPE=image/jpeg:https://whatsonlewis.co.uk/wp-content/uploads/2026/02/HESS-cLUB.jpg
END:VEVENT
BEGIN:VEVENT
DTSTART;TZID=Europe/London:20260502T120000
DTEND;TZID=Europe/London:20260502T160000
DTSTAMP:20260420T155424
CREATED:20260416T094812Z
LAST-MODIFIED:20260416T094836Z
UID:4144-1777723200-1777737600@whatsonlewis.co.uk
SUMMARY:Car Show\, Lewis Car Club\, Creed Motorsport Park
DESCRIPTION:
URL:https://whatsonlewis.co.uk/event/car-show-creed-motorsport/
LOCATION:Creed Motor Sport Facility\, Lochs Rd\, HS2 9JN
CATEGORIES:family,social,Wellbeing
ATTACH;FMTTYPE=image/jpeg:https://whatsonlewis.co.uk/wp-content/uploads/2026/04/Lewis-Car-Club.jpg
END:VEVENT
BEGIN:VEVENT
DTSTART;TZID=Europe/London:20260502T120000
DTEND;TZID=Europe/London:20260502T170000
DTSTAMP:20260420T155424
CREATED:20260416T095547Z
LAST-MODIFIED:20260416T095547Z
UID:4152-1777723200-1777741200@whatsonlewis.co.uk
SUMMARY:Heart Walk\, Castle Grounds\, Stornoway
DESCRIPTION:
URL:https://whatsonlewis.co.uk/event/heart-walk-castle-grounds-stornoway/
LOCATION:Lews Castle Grounds\, Stornoway\, Stornoway\, HS2 0XP
CATEGORIES:Environmental,Exercise,family,social,Wellbeing
ATTACH;FMTTYPE=image/jpeg:https://whatsonlewis.co.uk/wp-content/uploads/2026/04/Heart-walk.jpg
END:VEVENT
BEGIN:VEVENT
DTSTART;TZID=Europe/London:20260502T150000
DTEND;TZID=Europe/London:20260502T220000
DTSTAMP:20260420T155424
CREATED:20260329T125041Z
LAST-MODIFIED:20260329T125041Z
UID:4043-1777734000-1777759200@whatsonlewis.co.uk
SUMMARY:Handbags & Gladrags\, Sea Angling Club
DESCRIPTION:
URL:https://whatsonlewis.co.uk/event/handbags-gladrags-sea-angling-club/
CATEGORIES:music,social,Wellbeing
ATTACH;FMTTYPE=image/jpeg:https://whatsonlewis.co.uk/wp-content/uploads/2026/03/Hanfbags.jpg
END:VEVENT
BEGIN:VEVENT
DTSTART;TZID=Europe/London:20260506T193000
DTEND;TZID=Europe/London:20260506T213000
DTSTAMP:20260420T155424
CREATED:20260405T122242Z
LAST-MODIFIED:20260405T122242Z
UID:4096-1778095800-1778103000@whatsonlewis.co.uk
SUMMARY:Ceilidh Dancing\, Golf Club\, Stornoway
DESCRIPTION:
URL:https://whatsonlewis.co.uk/event/ceilidh-dancing-golf-club-stornoway-5/
LOCATION:Stornoway Golf Club\, HS2 0XP
CATEGORIES:Exercise,music,social,Wellbeing
ATTACH;FMTTYPE=image/jpeg:https://whatsonlewis.co.uk/wp-content/uploads/2025/08/Ceilidh-Dancing.jpg
END:VEVENT
BEGIN:VEVENT
DTSTART;TZID=Europe/London:20260507T143000
DTEND;TZID=Europe/London:20260507T160000
DTSTAMP:20260420T155424
CREATED:20260329T125959Z
LAST-MODIFIED:20260329T125959Z
UID:4055-1778164200-1778169600@whatsonlewis.co.uk
SUMMARY:Sounds Familiar\, High Church Stornoway
DESCRIPTION:
URL:https://whatsonlewis.co.uk/event/sounds-familiar-high-church-stornoway/
LOCATION:High Church\, Goathill Rd\, Stornoway
CATEGORIES:music,social,Wellbeing
ATTACH;FMTTYPE=image/jpeg:https://whatsonlewis.co.uk/wp-content/uploads/2026/03/sound-amy-junb.jpg
END:VEVENT
BEGIN:VEVENT
DTSTART;TZID=Europe/London:20260507T180000
DTEND;TZID=Europe/London:20260507T193000
DTSTAMP:20260420T155424
CREATED:20260402T135045Z
LAST-MODIFIED:20260402T135045Z
UID:4070-1778176800-1778182200@whatsonlewis.co.uk
SUMMARY:Ceilidh\, Ceol is Cofaidh
DESCRIPTION:
URL:https://whatsonlewis.co.uk/event/ceilidh-ceol-is-cofaidh/
LOCATION:An Taigh Ceilidh\, Church St\, Stornoway\, 16 Church St\, Stornoway\, HS1 2DH
CATEGORIES:An Taigh Ceilidh,Gaelic,music,social,Wellbeing
ATTACH;FMTTYPE=image/jpeg:https://whatsonlewis.co.uk/wp-content/uploads/2026/03/ceilidh.jpg
END:VEVENT
BEGIN:VEVENT
DTSTART;TZID=Europe/London:20260513T193000
DTEND;TZID=Europe/London:20260513T213000
DTSTAMP:20260420T155424
CREATED:20260405T122344Z
LAST-MODIFIED:20260405T122344Z
UID:4098-1778700600-1778707800@whatsonlewis.co.uk
SUMMARY:Ceilidh Dancing\, Golf Club\, Stornoway
DESCRIPTION:
URL:https://whatsonlewis.co.uk/event/ceilidh-dancing-golf-club-stornoway-6/
LOCATION:Stornoway Golf Club\, HS2 0XP
CATEGORIES:Exercise,music,social,Wellbeing
ATTACH;FMTTYPE=image/jpeg:https://whatsonlewis.co.uk/wp-content/uploads/2025/08/Ceilidh-Dancing.jpg
END:VEVENT
BEGIN:VEVENT
DTSTART;TZID=Europe/London:20260514T180000
DTEND;TZID=Europe/London:20260514T180000
DTSTAMP:20260420T155424
CREATED:20260402T135244Z
LAST-MODIFIED:20260402T135455Z
UID:4073-1778781600-1778781600@whatsonlewis.co.uk
SUMMARY:Ceilidh\, Ceol is Cofaidh\, An Taigh Ceilidh
DESCRIPTION:
URL:https://whatsonlewis.co.uk/event/ceilidh-ceol-is-cofaidh-an-taigh-ceilidh/
LOCATION:An Taigh Ceilidh\, Church St\, Stornoway\, 16 Church St\, Stornoway\, HS1 2DH
CATEGORIES:An Taigh Ceilidh,Gaelic,music,social,Wellbeing
ATTACH;FMTTYPE=image/jpeg:https://whatsonlewis.co.uk/wp-content/uploads/2026/03/ceilidh.jpg
END:VEVENT
BEGIN:VEVENT
DTSTART;TZID=Europe/London:20260515T173000
DTEND;TZID=Europe/London:20260515T190000
DTSTAMP:20260420T155424
CREATED:20260416T111402Z
LAST-MODIFIED:20260416T111402Z
UID:4157-1778866200-1778871600@whatsonlewis.co.uk
SUMMARY:Sgeulaicheadh Martainn Mac An t Saoir\, An Taigh Ceilidh
DESCRIPTION:
URL:https://whatsonlewis.co.uk/event/sgeulaicheadh-martainn-mac-an-t-saoir-an-taigh-ceilidh/
LOCATION:An Taigh Ceilidh\, Church St\, Stornoway\, 16 Church St\, Stornoway\, HS1 2DH
CATEGORIES:An Taigh Ceilidh,family,Gaelic,social,Wellbeing
ATTACH;FMTTYPE=image/png:https://whatsonlewis.co.uk/wp-content/uploads/2026/04/Bardachd-Seanchas-agus-Rosg-1.png
END:VEVENT
BEGIN:VEVENT
DTSTART;TZID=Europe/London:20260521T180000
DTEND;TZID=Europe/London:20260521T193000
DTSTAMP:20260420T155424
CREATED:20260402T135708Z
LAST-MODIFIED:20260402T135708Z
UID:4075-1779386400-1779391800@whatsonlewis.co.uk
SUMMARY:Ceilidh\, Ceol s Cofaidh\, An Taigh Ceilidh
DESCRIPTION:
URL:https://whatsonlewis.co.uk/event/ceilidh-ceol-s-cofaidh-an-taigh-ceilidh-5/
LOCATION:An Taigh Ceilidh\, Church St\, Stornoway\, 16 Church St\, Stornoway\, HS1 2DH
CATEGORIES:An Taigh Ceilidh,Gaelic,music,social,Wellbeing
ATTACH;FMTTYPE=image/jpeg:https://whatsonlewis.co.uk/wp-content/uploads/2026/03/ceilidh.jpg
END:VEVENT
BEGIN:VEVENT
DTSTART;TZID=Europe/London:20260528T180000
DTEND;TZID=Europe/London:20260528T193000
DTSTAMP:20260420T155424
CREATED:20260402T135842Z
LAST-MODIFIED:20260402T135842Z
UID:4077-1779991200-1779996600@whatsonlewis.co.uk
SUMMARY:Ceilidh\, Ceol s Cofaidh\, An Taigh Ceilidh
DESCRIPTION:
URL:https://whatsonlewis.co.uk/event/ceilidh-ceol-s-cofaidh-an-taigh-ceilidh-6/
LOCATION:An Taigh Ceilidh\, Church St\, Stornoway\, 16 Church St\, Stornoway\, HS1 2DH
CATEGORIES:An Taigh Ceilidh,Gaelic,music,social,Wellbeing
ATTACH;FMTTYPE=image/jpeg:https://whatsonlewis.co.uk/wp-content/uploads/2026/03/ceilidh.jpg
END:VEVENT
BEGIN:VEVENT
DTSTART;TZID=Europe/London:20260530T150000
DTEND;TZID=Europe/London:20260530T220000
DTSTAMP:20260420T155424
CREATED:20260329T125431Z
LAST-MODIFIED:20260329T125431Z
UID:4049-1780153200-1780178400@whatsonlewis.co.uk
SUMMARY:Frocks & Fizz\,
DESCRIPTION:
URL:https://whatsonlewis.co.uk/event/frocks-fizz/
LOCATION:North Lochs Community Centre\, Leurbost\, HS2 9NU
CATEGORIES:music,social,Wellbeing
ATTACH;FMTTYPE=image/jpeg:https://whatsonlewis.co.uk/wp-content/uploads/2026/03/Frocks-Fizz.jpg
END:VEVENT
BEGIN:VEVENT
DTSTART;TZID=Europe/London:20260604T143000
DTEND;TZID=Europe/London:20260604T160000
DTSTAMP:20260420T155424
CREATED:20260329T130140Z
LAST-MODIFIED:20260329T130140Z
UID:4058-1780583400-1780588800@whatsonlewis.co.uk
SUMMARY:Sounds Familiar Sing a long\, High Church
DESCRIPTION:
URL:https://whatsonlewis.co.uk/event/sounds-familiar-sing-a-long-high-church/
LOCATION:High Church\, Goathill Rd\, Stornoway
CATEGORIES:music,social,Wellbeing
ATTACH;FMTTYPE=image/jpeg:https://whatsonlewis.co.uk/wp-content/uploads/2026/03/sound-amy-junb.jpg
END:VEVENT
BEGIN:VEVENT
DTSTART;TZID=Europe/London:20260713T080000
DTEND;TZID=Europe/London:20260725T170000
DTSTAMP:20260420T155424
CREATED:20260206T093425Z
LAST-MODIFIED:20260409T091645Z
UID:3903-1783929600-1784998800@whatsonlewis.co.uk
SUMMARY:Maritime Display\, Clan McQuarrie
DESCRIPTION:
URL:https://whatsonlewis.co.uk/event/maritime-display-clan-mcquarrie/
LOCATION:Clan McQuarrie Centre\, Borve\, HS2 0RY
CATEGORIES:Art,Gaelic,social,Wellbeing
ATTACH;FMTTYPE=image/jpeg:https://whatsonlewis.co.uk/wp-content/uploads/2026/02/Maritime-display.jpeg
END:VEVENT
BEGIN:VEVENT
DTSTART;TZID=Europe/London:20260718T100000
DTEND;TZID=Europe/London:20260718T170000
DTSTAMP:20260420T155424
CREATED:20260319T202705Z
LAST-MODIFIED:20260319T202705Z
UID:4025-1784368800-1784394000@whatsonlewis.co.uk
SUMMARY:Independent Author Event\, Stornoway Library
DESCRIPTION:
URL:https://whatsonlewis.co.uk/event/independent-author-event-stornoway-library/
LOCATION:Stornoway Library\, Cromwell Street
CATEGORIES:social,Wellbeing
ATTACH;FMTTYPE=image/jpeg:https://whatsonlewis.co.uk/wp-content/uploads/2026/03/author-sat-28th-Julky.jpg
END:VEVENT
BEGIN:VEVENT
DTSTART;TZID=Europe/London:20260725T120000
DTEND;TZID=Europe/London:20260725T170000
DTSTAMP:20260420T155424
CREATED:20260319T203525Z
LAST-MODIFIED:20260409T091523Z
UID:4028-1784980800-1784998800@whatsonlewis.co.uk
SUMMARY:Lochs Show\, Showground Laxay
DESCRIPTION:
URL:https://whatsonlewis.co.uk/event/lochs-show-showground-laxay/
LOCATION:Lochs Show Ground Laxay\, Laxay\, 9PJ
CATEGORIES:Environmental,social,Wellbeing
ATTACH;FMTTYPE=image/jpeg:https://whatsonlewis.co.uk/wp-content/uploads/2026/03/Lochs-Show-sat-25th-July.jpg
END:VEVENT
BEGIN:VEVENT
DTSTART;TZID=Europe/London:20260728T110000
DTEND;TZID=Europe/London:20260728T170000
DTSTAMP:20260420T155424
CREATED:20260319T203719Z
LAST-MODIFIED:20260409T091433Z
UID:4031-1785236400-1785258000@whatsonlewis.co.uk
SUMMARY:South Harris Show\, Leverburgh Memorial School\,
DESCRIPTION:
URL:https://whatsonlewis.co.uk/event/south-harris-show-leverburgh-memorial-school/
CATEGORIES:Environmental,social,Wellbeing
END:VEVENT
BEGIN:VEVENT
DTSTART;TZID=Europe/London:20260807T130000
DTEND;TZID=Europe/London:20260807T170000
DTSTAMP:20260420T155424
CREATED:20260416T095324Z
LAST-MODIFIED:20260416T095324Z
UID:4150-1786107600-1786122000@whatsonlewis.co.uk
SUMMARY:World Class Darts\, Stornoway Sea Angling
DESCRIPTION:
URL:https://whatsonlewis.co.uk/event/world-class-darts-stornoway-sea-angling/
LOCATION:Sea Angling Club\, Shell Street
CATEGORIES:social,Wellbeing
ATTACH;FMTTYPE=image/jpeg:https://whatsonlewis.co.uk/wp-content/uploads/2026/04/Darts-7th-Aug.jpg
END:VEVENT
END:VCALENDAR