BEGIN:VCALENDAR
VERSION:2.0
PRODID:-//What&#039;s On Lewis - ECPv6.15.20//NONSGML v1.0//EN
CALSCALE:GREGORIAN
METHOD:PUBLISH
X-WR-CALNAME:What&#039;s On Lewis
X-ORIGINAL-URL:https://whatsonlewis.co.uk
X-WR-CALDESC:Events for What&#039;s On Lewis
REFRESH-INTERVAL;VALUE=DURATION:PT1H
X-Robots-Tag:noindex
X-PUBLISHED-TTL:PT1H
BEGIN:VTIMEZONE
TZID:Europe/London
BEGIN:DAYLIGHT
TZOFFSETFROM:+0000
TZOFFSETTO:+0100
TZNAME:BST
DTSTART:20250330T010000
END:DAYLIGHT
BEGIN:STANDARD
TZOFFSETFROM:+0100
TZOFFSETTO:+0000
TZNAME:GMT
DTSTART:20251026T010000
END:STANDARD
BEGIN:DAYLIGHT
TZOFFSETFROM:+0000
TZOFFSETTO:+0100
TZNAME:BST
DTSTART:20260329T010000
END:DAYLIGHT
BEGIN:STANDARD
TZOFFSETFROM:+0100
TZOFFSETTO:+0000
TZNAME:GMT
DTSTART:20261025T010000
END:STANDARD
BEGIN:DAYLIGHT
TZOFFSETFROM:+0000
TZOFFSETTO:+0100
TZNAME:BST
DTSTART:20270328T010000
END:DAYLIGHT
BEGIN:STANDARD
TZOFFSETFROM:+0100
TZOFFSETTO:+0000
TZNAME:GMT
DTSTART:20271031T010000
END:STANDARD
END:VTIMEZONE
BEGIN:VEVENT
DTSTART;TZID=Europe/London:20260502T120000
DTEND;TZID=Europe/London:20260502T170000
DTSTAMP:20260422T231912
CREATED:20260416T095547Z
LAST-MODIFIED:20260416T095547Z
UID:4152-1777723200-1777741200@whatsonlewis.co.uk
SUMMARY:Heart Walk\, Castle Grounds\, Stornoway
DESCRIPTION:
URL:https://whatsonlewis.co.uk/event/heart-walk-castle-grounds-stornoway/
LOCATION:Lews Castle Grounds\, Stornoway\, Stornoway\, HS2 0XP
CATEGORIES:Environmental,Exercise,family,social,Wellbeing
ATTACH;FMTTYPE=image/jpeg:https://whatsonlewis.co.uk/wp-content/uploads/2026/04/Heart-walk.jpg
END:VEVENT
BEGIN:VEVENT
DTSTART;TZID=Europe/London:20260502T120000
DTEND;TZID=Europe/London:20260502T160000
DTSTAMP:20260422T231912
CREATED:20260416T094812Z
LAST-MODIFIED:20260416T094836Z
UID:4144-1777723200-1777737600@whatsonlewis.co.uk
SUMMARY:Car Show\, Lewis Car Club\, Creed Motorsport Park
DESCRIPTION:
URL:https://whatsonlewis.co.uk/event/car-show-creed-motorsport/
LOCATION:Creed Motor Sport Facility\, Lochs Rd\, HS2 9JN
CATEGORIES:family,social,Wellbeing
ATTACH;FMTTYPE=image/jpeg:https://whatsonlewis.co.uk/wp-content/uploads/2026/04/Lewis-Car-Club.jpg
END:VEVENT
BEGIN:VEVENT
DTSTART;TZID=Europe/London:20260430T183000
DTEND;TZID=Europe/London:20260430T193000
DTSTAMP:20260422T231912
CREATED:20260405T123547Z
LAST-MODIFIED:20260405T123547Z
UID:4107-1777573800-1777577400@whatsonlewis.co.uk
SUMMARY:Chess Club\, Laxdale Hall
DESCRIPTION:
URL:https://whatsonlewis.co.uk/event/chess-club-laxdale-hall-4/
LOCATION:Laxdale Hall\, HS2 0DY
CATEGORIES:social,Wellbeing
ATTACH;FMTTYPE=image/jpeg:https://whatsonlewis.co.uk/wp-content/uploads/2026/02/HESS-cLUB.jpg
END:VEVENT
BEGIN:VEVENT
DTSTART;TZID=Europe/London:20260430T180000
DTEND;TZID=Europe/London:20260430T193000
DTSTAMP:20260422T231912
CREATED:20260329T131307Z
LAST-MODIFIED:20260329T131307Z
UID:4068-1777572000-1777577400@whatsonlewis.co.uk
SUMMARY:Ceilidh\, Ceol s Cofaidh\, An Taigh Ceilidh
DESCRIPTION:
URL:https://whatsonlewis.co.uk/event/ceilidh-ceol-s-cofaidh-an-taigh-ceilidh-4/
LOCATION:An Taigh Ceilidh\, Church St\, Stornoway\, 16 Church St\, Stornoway\, HS1 2DH
CATEGORIES:An Taigh Ceilidh,Gaelic,music,social,Wellbeing
ATTACH;FMTTYPE=image/jpeg:https://whatsonlewis.co.uk/wp-content/uploads/2026/03/ceilidh.jpg
END:VEVENT
BEGIN:VEVENT
DTSTART;TZID=Europe/London:20260430T123000
DTEND;TZID=Europe/London:20260430T140000
DTSTAMP:20260422T231912
CREATED:20260419T094410Z
LAST-MODIFIED:20260419T094426Z
UID:4176-1777552200-1777557600@whatsonlewis.co.uk
SUMMARY:Buggy Buddies\, Porters Lodge
DESCRIPTION:
URL:https://whatsonlewis.co.uk/event/buggy-buddies-porters-lodge-2/
LOCATION:Porters Lodge\, Castle Grounds\, stornoway\, HS1
CATEGORIES:Exercise,family,social,Wellbeing
ATTACH;FMTTYPE=image/jpeg:https://whatsonlewis.co.uk/wp-content/uploads/2026/04/bb0b5d89-7705-47fa-8f83-3b1cf3fa3be9.jpg
END:VEVENT
BEGIN:VEVENT
DTSTART;TZID=Europe/London:20260429T193000
DTEND;TZID=Europe/London:20260429T213000
DTSTAMP:20260422T231912
CREATED:20260405T122128Z
LAST-MODIFIED:20260405T122128Z
UID:4094-1777491000-1777498200@whatsonlewis.co.uk
SUMMARY:Ceilidh Dancing\, Golf Club\, Stornoway
DESCRIPTION:
URL:https://whatsonlewis.co.uk/event/ceilidh-dancing-golf-club-stornoway-4/
LOCATION:Stornoway Golf Club\, HS2 0XP
CATEGORIES:Exercise,music,social,Wellbeing
ATTACH;FMTTYPE=image/jpeg:https://whatsonlewis.co.uk/wp-content/uploads/2025/08/Ceilidh-Dancing.jpg
END:VEVENT
BEGIN:VEVENT
DTSTART;TZID=Europe/London:20260429T140000
DTEND;TZID=Europe/London:20260429T160000
DTSTAMP:20260422T231912
CREATED:20260416T094344Z
LAST-MODIFIED:20260416T094344Z
UID:4142-1777471200-1777478400@whatsonlewis.co.uk
SUMMARY:Cruth Creadha\, Rupachitta Robertson\, An Taigh Ceilidh
DESCRIPTION:
URL:https://whatsonlewis.co.uk/event/cruth-creadha-rupachitta-robertson-an-taigh-ceilidh/
LOCATION:An Taigh Ceilidh\, Church St\, Stornoway\, 16 Church St\, Stornoway\, HS1 2DH
CATEGORIES:An Taigh Ceilidh,Gaelic,Wellbeing
ATTACH;FMTTYPE=image/jpeg:https://whatsonlewis.co.uk/wp-content/uploads/2026/04/Rupa-2.jpg
END:VEVENT
BEGIN:VEVENT
DTSTART;TZID=Europe/London:20260428T183000
DTEND;TZID=Europe/London:20260430T220000
DTSTAMP:20260422T231912
CREATED:20260422T173804Z
LAST-MODIFIED:20260422T173804Z
UID:4191-1777401000-1777586400@whatsonlewis.co.uk
SUMMARY:BA Applied Music Showcase\, An Lanntair
DESCRIPTION:
URL:https://whatsonlewis.co.uk/event/ba-applied-music-showcase-an-lanntair/
LOCATION:An Lanntair
CATEGORIES:Art,music,social
ATTACH;FMTTYPE=image/jpeg:https://whatsonlewis.co.uk/wp-content/uploads/2026/04/BA-Applied-Music-Showcase-1.jpg
END:VEVENT
BEGIN:VEVENT
DTSTART;TZID=Europe/London:20260424T193000
DTEND;TZID=Europe/London:20260424T210000
DTSTAMP:20260422T231912
CREATED:20260419T101046Z
LAST-MODIFIED:20260419T101238Z
UID:4186-1777059000-1777064400@whatsonlewis.co.uk
SUMMARY:Caraichean\, The Hut Back
DESCRIPTION:
URL:https://whatsonlewis.co.uk/event/caraichean-the-hut-back/
LOCATION:Loch a Tuath Community Hut \, Back\, Old School Rd\, Back\, HS2 0LQ
CATEGORIES:Gaelic,social,Wellbeing
ATTACH;FMTTYPE=image/jpeg:https://whatsonlewis.co.uk/wp-content/uploads/2026/04/a6d308d8-1b6e-461a-b4db-8be7f30ec0ec.jpg
END:VEVENT
BEGIN:VEVENT
DTSTART;TZID=Europe/London:20260423T183000
DTEND;TZID=Europe/London:20260423T193000
DTSTAMP:20260422T231912
CREATED:20260405T123448Z
LAST-MODIFIED:20260405T123448Z
UID:4105-1776969000-1776972600@whatsonlewis.co.uk
SUMMARY:Chess Club\, Laxdale Hall
DESCRIPTION:
URL:https://whatsonlewis.co.uk/event/chess-club-laxdale-hall-3/
LOCATION:Laxdale Hall\, HS2 0DY
CATEGORIES:social,Wellbeing
ATTACH;FMTTYPE=image/jpeg:https://whatsonlewis.co.uk/wp-content/uploads/2026/02/HESS-cLUB.jpg
END:VEVENT
BEGIN:VEVENT
DTSTART;TZID=Europe/London:20260423T180000
DTEND;TZID=Europe/London:20260423T193000
DTSTAMP:20260422T231912
CREATED:20260329T131147Z
LAST-MODIFIED:20260329T131147Z
UID:4066-1776967200-1776972600@whatsonlewis.co.uk
SUMMARY:Ceilidh\, Ceol s Cofaidh\, An Taigh Ceilidh
DESCRIPTION:
URL:https://whatsonlewis.co.uk/event/ceilidh-ceol-s-cofaidh-an-taigh-ceilidh-3/
LOCATION:An Taigh Ceilidh\, Church St\, Stornoway\, 16 Church St\, Stornoway\, HS1 2DH
CATEGORIES:An Taigh Ceilidh,Gaelic,music,social,Wellbeing
ATTACH;FMTTYPE=image/jpeg:https://whatsonlewis.co.uk/wp-content/uploads/2026/03/ceilidh.jpg
END:VEVENT
BEGIN:VEVENT
DTSTART;TZID=Europe/London:20260423T123000
DTEND;TZID=Europe/London:20260423T140000
DTSTAMP:20260422T231912
CREATED:20260419T094152Z
LAST-MODIFIED:20260419T094152Z
UID:4173-1776947400-1776952800@whatsonlewis.co.uk
SUMMARY:Buggy Buddies\, {Porters Lodge\,
DESCRIPTION:
URL:https://whatsonlewis.co.uk/event/buggy-buddies-porters-lodge/
LOCATION:Porters Lodge\, Castle Grounds\, stornoway\, HS1
CATEGORIES:Environmental,Exercise,family,music
ATTACH;FMTTYPE=image/jpeg:https://whatsonlewis.co.uk/wp-content/uploads/2026/04/bb0b5d89-7705-47fa-8f83-3b1cf3fa3be9.jpg
END:VEVENT
BEGIN:VEVENT
DTSTART;TZID=Europe/London:20260422T193000
DTEND;TZID=Europe/London:20260422T213000
DTSTAMP:20260422T231912
CREATED:20260405T122028Z
LAST-MODIFIED:20260405T122028Z
UID:4092-1776886200-1776893400@whatsonlewis.co.uk
SUMMARY:Ceilidh Dancing\, Golf Club\, Stornoway
DESCRIPTION:
URL:https://whatsonlewis.co.uk/event/ceilidh-dancing-golf-club-stornoway-3/
LOCATION:Stornoway Golf Club\, HS2 0XP
CATEGORIES:Exercise,music,social,Wellbeing
ATTACH;FMTTYPE=image/jpeg:https://whatsonlewis.co.uk/wp-content/uploads/2025/08/Ceilidh-Dancing.jpg
END:VEVENT
BEGIN:VEVENT
DTSTART;TZID=Europe/London:20260418T190000
DTEND;TZID=Europe/London:20260418T213000
DTSTAMP:20260422T231912
CREATED:20260416T092131Z
LAST-MODIFIED:20260416T092131Z
UID:4138-1776538800-1776547800@whatsonlewis.co.uk
SUMMARY:Bingo\, Grinneabhat
DESCRIPTION:
URL:https://whatsonlewis.co.uk/event/bingo-grinneabhat-2/
LOCATION:Grinneabhat\, Bragar\, HS2 9DA
CATEGORIES:Gaelic,social,Wellbeing
ATTACH;FMTTYPE=image/jpeg:https://whatsonlewis.co.uk/wp-content/uploads/2026/04/2fc8b1f6-a585-468b-9b3c-a608dce9ea9e.jpg
END:VEVENT
BEGIN:VEVENT
DTSTART;TZID=Europe/London:20260417T193000
DTEND;TZID=Europe/London:20260417T213000
DTSTAMP:20260422T231912
CREATED:20260411T211715Z
LAST-MODIFIED:20260411T211715Z
UID:4125-1776454200-1776461400@whatsonlewis.co.uk
SUMMARY:Hero Donald MacDonald Bayble\, Aros an Rubha
DESCRIPTION:
URL:https://whatsonlewis.co.uk/event/hero-donald-macdonald-bayble-aros-an-rubha/
LOCATION:aros an Rubha\, HS2 0BW
ATTACH;FMTTYPE=image/jpeg:https://whatsonlewis.co.uk/wp-content/uploads/2026/04/Comann-Eachdsraidh-an-Rudbha.jpg
END:VEVENT
BEGIN:VEVENT
DTSTART;TZID=Europe/London:20260416T183000
DTEND;TZID=Europe/London:20260427T193000
DTSTAMP:20260422T231912
CREATED:20260405T123345Z
LAST-MODIFIED:20260405T123345Z
UID:4103-1776364200-1777318200@whatsonlewis.co.uk
SUMMARY:Chess Club\, Laxdale Hall
DESCRIPTION:
URL:https://whatsonlewis.co.uk/event/chess-club-laxdale-hall-2/
LOCATION:Laxdale Hall\, HS2 0DY
CATEGORIES:social,Wellbeing
ATTACH;FMTTYPE=image/jpeg:https://whatsonlewis.co.uk/wp-content/uploads/2026/02/HESS-cLUB.jpg
END:VEVENT
BEGIN:VEVENT
DTSTART;TZID=Europe/London:20260416T180000
DTEND;TZID=Europe/London:20260416T193000
DTSTAMP:20260422T231912
CREATED:20260329T131015Z
LAST-MODIFIED:20260329T131015Z
UID:4064-1776362400-1776367800@whatsonlewis.co.uk
SUMMARY:Ceilidh Ceol s Cofaidh\, An Taigh Ceilidh
DESCRIPTION:
URL:https://whatsonlewis.co.uk/event/ceilidh-ceol-s-cofaidh-an-taigh-ceilidh-2/
LOCATION:An Taigh Ceilidh\, Church St\, Stornoway\, 16 Church St\, Stornoway\, HS1 2DH
CATEGORIES:An Taigh Ceilidh,Gaelic,music,social,Wellbeing
ATTACH;FMTTYPE=image/jpeg:https://whatsonlewis.co.uk/wp-content/uploads/2026/03/ceilidh.jpg
END:VEVENT
BEGIN:VEVENT
DTSTART;TZID=Europe/London:20260416T100000
DTEND;TZID=Europe/London:20260417T160000
DTSTAMP:20260422T231912
CREATED:20260406T102830Z
LAST-MODIFIED:20260406T104220Z
UID:4109-1776333600-1776441600@whatsonlewis.co.uk
SUMMARY:The Quality Craft Emporium\, Cabar Feidh Hotel
DESCRIPTION:
URL:https://whatsonlewis.co.uk/event/the-quality-craft-emporium-cabar-feidh-hotel/
LOCATION:Cabarfeidh Hotel\, HS1 2EU
CATEGORIES:Art,social,Wellbeing
ATTACH;FMTTYPE=image/jpeg:https://whatsonlewis.co.uk/wp-content/uploads/2026/04/Untitled-design-1.jpg
END:VEVENT
BEGIN:VEVENT
DTSTART;TZID=Europe/London:20260415T193000
DTEND;TZID=Europe/London:20260415T213000
DTSTAMP:20260422T231912
CREATED:20260405T121930Z
LAST-MODIFIED:20260405T121930Z
UID:4090-1776281400-1776288600@whatsonlewis.co.uk
SUMMARY:Ceilidh Dancing\, Golf Club\, Stornoway
DESCRIPTION:
URL:https://whatsonlewis.co.uk/event/ceilidh-dancing-golf-club-stornoway-2/
LOCATION:Stornoway Golf Club\, HS2 0XP
CATEGORIES:Exercise,music,social,Wellbeing
ATTACH;FMTTYPE=image/jpeg:https://whatsonlewis.co.uk/wp-content/uploads/2025/08/Ceilidh-Dancing.jpg
END:VEVENT
BEGIN:VEVENT
DTSTART;TZID=Europe/London:20260411T100000
DTEND;TZID=Europe/London:20260411T233000
DTSTAMP:20260422T231912
CREATED:20260405T115258Z
LAST-MODIFIED:20260405T115258Z
UID:4080-1775901600-1775950200@whatsonlewis.co.uk
SUMMARY:Beach Clean\, Bayble Beach Point
DESCRIPTION:
URL:https://whatsonlewis.co.uk/event/beach-clean-bayble-beach-point/
CATEGORIES:Environmental,Exercise,social,Wellbeing
END:VEVENT
BEGIN:VEVENT
DTSTART;TZID=Europe/London:20260409T183000
DTEND;TZID=Europe/London:20260409T193000
DTSTAMP:20260422T231912
CREATED:20260405T123159Z
LAST-MODIFIED:20260405T123159Z
UID:4101-1775759400-1775763000@whatsonlewis.co.uk
SUMMARY:Chess Club\, Laxdale Hall
DESCRIPTION:
URL:https://whatsonlewis.co.uk/event/chess-club-laxdale-hall/
LOCATION:Laxdale Hall\, HS2 0DY
CATEGORIES:social,Wellbeing
ATTACH;FMTTYPE=image/jpeg:https://whatsonlewis.co.uk/wp-content/uploads/2026/02/HESS-cLUB.jpg
END:VEVENT
BEGIN:VEVENT
DTSTART;TZID=Europe/London:20260409T180000
DTEND;TZID=Europe/London:20260409T193000
DTSTAMP:20260422T231912
CREATED:20260329T130901Z
LAST-MODIFIED:20260329T130901Z
UID:4062-1775757600-1775763000@whatsonlewis.co.uk
SUMMARY:Ceilidh\, Ceol s Cofaidh\, An Taigh ceilidh
DESCRIPTION:
URL:https://whatsonlewis.co.uk/event/ceilidh-ceol-s-cofaidh-an-taigh-ceilidh/
LOCATION:An Taigh Ceilidh\, Church St\, Stornoway\, 16 Church St\, Stornoway\, HS1 2DH
CATEGORIES:An Taigh Ceilidh,Gaelic,music,social,Wellbeing
ATTACH;FMTTYPE=image/jpeg:https://whatsonlewis.co.uk/wp-content/uploads/2026/03/ceilidh.jpg
END:VEVENT
BEGIN:VEVENT
DTSTART;TZID=Europe/London:20260408T193000
DTEND;TZID=Europe/London:20260408T213000
DTSTAMP:20260422T231912
CREATED:20260405T121735Z
LAST-MODIFIED:20260409T091232Z
UID:4088-1775676600-1775683800@whatsonlewis.co.uk
SUMMARY:Ceilidh Dancing\, Golf Club\, Stornoway
DESCRIPTION:
URL:https://whatsonlewis.co.uk/event/ceilidh-dancing-golf-club-stornoway/
LOCATION:Stornoway Golf Club\, HS2 0XP
CATEGORIES:Exercise,music,social,Wellbeing
ATTACH;FMTTYPE=image/jpeg:https://whatsonlewis.co.uk/wp-content/uploads/2025/08/Ceilidh-Dancing.jpg
END:VEVENT
BEGIN:VEVENT
DTSTART;TZID=Europe/London:20260408T140000
DTEND;TZID=Europe/London:20260408T160000
DTSTAMP:20260422T231912
CREATED:20260405T115648Z
LAST-MODIFIED:20260405T115741Z
UID:4086-1775656800-1775664000@whatsonlewis.co.uk
SUMMARY:Forget me Not\, Ravenspoint\, Kershader
DESCRIPTION:
URL:https://whatsonlewis.co.uk/event/forget-me-not-ravenspoint-kershader/
LOCATION:Ravenspoint\, Kershader\, HS2 9QA
CATEGORIES:Gaelic,social,Wellbeing
END:VEVENT
BEGIN:VEVENT
DTSTART;TZID=Europe/London:20260401T100000
DTEND;TZID=Europe/London:20260429T160000
DTSTAMP:20260422T231912
CREATED:20260319T202434Z
LAST-MODIFIED:20260319T202434Z
UID:4022-1775037600-1777478400@whatsonlewis.co.uk
SUMMARY:DK MacLeod Art Exhibition\, Dusgadh Baile na Cille
DESCRIPTION:
URL:https://whatsonlewis.co.uk/event/dk-macleod-art-exhibition-dusgadh-baile-na-cille/
LOCATION:Baile na Cille\, HS2 9JE
CATEGORIES:Art,social,Wellbeing
ATTACH;FMTTYPE=image/jpeg:https://whatsonlewis.co.uk/wp-content/uploads/2026/03/1-29th-April-DK-MacLeod.jpg
END:VEVENT
END:VCALENDAR